BEGIN:VCALENDAR
VERSION:2.0
CALSCALE:GREGORIAN
PRODID:-//Diputació de Barcelona//DibaCMS//EN
BEGIN:VEVENT
UID:1522
DTSTAMP:20260420T124150
DTSTART:20211113T000000
DTEND:20211113T000000
SUMMARY:Futbol: torna la doble cita
LOCATION:08612 Montmajor
METHOD:PUBLISH
X-WR-CALNAME:montmajor@montmajor.cat
X-WR-TIMEZONE:Europe/Madrid
DESCRIPTION:Aquest dissabte partit a les 16:00 h de futbol masculí entre Montmajor i Calders.

A les 18:30 h Futbol Femení entre el Montmajor i Pirineus.  Hi haurà brasa per menjar, entrepans calents,...

URI:https://www.montmajor.cat/actualitat/agenda/futbol-torna-la-doble-cita.html
CLASS:PUBLIC
END:VEVENT
END:VCALENDAR
