BEGIN:VCALENDAR
VERSION:2.0
CALSCALE:GREGORIAN
PRODID:-//Diputació de Barcelona//DibaCMS//EN
BEGIN:VEVENT
UID:1515
DTSTAMP:20260420T141839
DTSTART:20211023T000000
DTEND:20211024T000000
SUMMARY:Exposició d'olis Marcel·lí Casas
LOCATION:Museu del Bolet 08612 Montmajor
METHOD:PUBLISH
X-WR-CALNAME:montmajor@montmajor.cat
X-WR-TIMEZONE:Europe/Madrid
DESCRIPTION:Del 16 d'octubre al 12 de desembre.

Dissabtes, diumenges i festius al matí de 10 a 13 hores. 

URI:https://www.montmajor.cat/actualitat/agenda/exposicio-dolis-marcelli-casas.html
CLASS:PUBLIC
END:VEVENT
END:VCALENDAR
